BEGIN:VCALENDAR
VERSION:2.0
PRODID:-//AME - EPE - ECPv4.9.5//NONSGML v1.0//EN
CALSCALE:GREGORIAN
METHOD:PUBLISH
X-WR-CALNAME:AME - EPE
X-ORIGINAL-URL:https://ame-epe.com.br
X-WR-CALDESC:Eventos para AME - EPE
BEGIN:VTIMEZONE
TZID:"UTC"
BEGIN:STANDARD
TZOFFSETFROM:+0000
TZOFFSETTO:+0000
TZNAME:UTC
DTSTART:20260101T000000
END:STANDARD
END:VTIMEZONE
BEGIN:VEVENT
DTSTART;TZID="UTC":20260404T090000
DTEND;TZID="UTC":20260404T110000
DTSTAMP:20260423T130555
CREATED:20180124T214354Z
LAST-MODIFIED:20260404T144744Z
UID:1535-1775293200-1775300400@ame-epe.com.br
SUMMARY:Estudo das Obras de André Luiz
DESCRIPTION:  \n  \n
URL:https://ame-epe.com.br/atividades/estudo-das-obras-de-andre-luiz/
LOCATION:União Espírita Caminho da Luz – UNILUZ\, Rua Sá e Souza\, 1514\, Setúbal\, Recife\, Pernambuco\, 51130180\, Brasil
END:VEVENT
BEGIN:VEVENT
DTSTART;TZID="UTC":20260409T090000
DTEND;TZID="UTC":20260409T110000
DTSTAMP:20260423T130555
CREATED:20240801T194515Z
LAST-MODIFIED:20260404T144708Z
UID:9023-1775725200-1775732400@ame-epe.com.br
SUMMARY:Grupo de Estudos “Espiritismo e Ciência”
DESCRIPTION:Na sala de estudos da AME-EPE / UNILUZ \n9h – 11h \n
URL:https://ame-epe.com.br/atividades/grupo-de-estudos-espiritismo-e-ciencia/
END:VEVENT
BEGIN:VEVENT
DTSTART;TZID="UTC":20260413T200000
DTEND;TZID="UTC":20260413T213000
DTSTAMP:20260423T130555
CREATED:20240801T194729Z
LAST-MODIFIED:20260404T144724Z
UID:9025-1776110400-1776115800@ame-epe.com.br
SUMMARY:Grupo de Estudos “Física Quântica\, Ciência e Espiritismo”
DESCRIPTION:UNILUZ\, 1o andar\, sala 18\, 20h-21h30 \n  \n
URL:https://ame-epe.com.br/atividades/grupo-de-estudos-fisica-quantica-ciencia-e-espiritismo/
END:VEVENT
BEGIN:VEVENT
DTSTART;TZID="UTC":20260425T090000
DTEND;TZID="UTC":20260425T110000
DTSTAMP:20260423T130555
CREATED:20180127T165741Z
LAST-MODIFIED:20260404T144646Z
UID:1594-1777107600-1777114800@ame-epe.com.br
SUMMARY:Grupo de Estudos de Medicina Veterinária e Espiritualidade
DESCRIPTION:  \n  \n
URL:https://ame-epe.com.br/atividades/grupo-de-estudos-de-medicina-veterinaria-e-espiritualidade/
LOCATION:União Espírita Caminho da Luz – UNILUZ\, Rua Sá e Souza\, 1514\, Setúbal\, Recife\, Pernambuco\, 51130180\, Brasil
END:VEVENT
BEGIN:VEVENT
DTSTART;TZID="UTC":20260426T090000
DTEND;TZID="UTC":20260426T110000
DTSTAMP:20260423T130555
CREATED:20180124T215106Z
LAST-MODIFIED:20260404T144616Z
UID:1538-1777194000-1777201200@ame-epe.com.br
SUMMARY:Grupo de Estudos em Saúde Mental e Espiritismo
DESCRIPTION:  \nLivros “Saude Mental” e “Um novo olhar sobre o problema do Ser\, do Destino e da Dor – 100 anos depois”.  \nGrupo de Estudos voltados a psicólogos\, psiquiatras e outros profissionais que atuem na área da saúde mental. \nO estudo ocorre através da plataforma Zoom. Caso haja interesse\, solicite a sua participação a um dos nossos colaboradores através de mensagem no nosso instagram @ame_pernambuco \n
URL:https://ame-epe.com.br/atividades/grupo-de-estudos-aprofundados-em-psiquiatria-e-espiritismo/
END:VEVENT
END:VCALENDAR